BEGIN:VCALENDAR
VERSION:2.0
PRODID:-//Augusta Winery - ECPv6.15.20//NONSGML v1.0//EN
CALSCALE:GREGORIAN
METHOD:PUBLISH
X-ORIGINAL-URL:https://augustawinery.com
X-WR-CALDESC:Events for Augusta Winery
REFRESH-INTERVAL;VALUE=DURATION:PT1H
X-Robots-Tag:noindex
X-PUBLISHED-TTL:PT1H
BEGIN:VTIMEZONE
TZID:America/Chicago
BEGIN:DAYLIGHT
TZOFFSETFROM:-0600
TZOFFSETTO:-0500
TZNAME:CDT
DTSTART:20250309T080000
END:DAYLIGHT
BEGIN:STANDARD
TZOFFSETFROM:-0500
TZOFFSETTO:-0600
TZNAME:CST
DTSTART:20251102T070000
END:STANDARD
BEGIN:DAYLIGHT
TZOFFSETFROM:-0600
TZOFFSETTO:-0500
TZNAME:CDT
DTSTART:20260308T080000
END:DAYLIGHT
BEGIN:STANDARD
TZOFFSETFROM:-0500
TZOFFSETTO:-0600
TZNAME:CST
DTSTART:20261101T070000
END:STANDARD
BEGIN:DAYLIGHT
TZOFFSETFROM:-0600
TZOFFSETTO:-0500
TZNAME:CDT
DTSTART:20270314T080000
END:DAYLIGHT
BEGIN:STANDARD
TZOFFSETFROM:-0500
TZOFFSETTO:-0600
TZNAME:CST
DTSTART:20271107T070000
END:STANDARD
END:VTIMEZONE
BEGIN:VEVENT
DTSTART;TZID=America/Chicago:20260321T110000
DTEND;TZID=America/Chicago:20260321T170000
DTSTAMP:20260419T094654
CREATED:20251219T183250Z
LAST-MODIFIED:20260113T211601Z
UID:1136-1774090800-1774112400@augustawinery.com
SUMMARY:Cabin Fever Festival
DESCRIPTION: 2nd Annual Cabin Fever Festival  Mount Pleasant Estates\nShake off the winter blues and join us for a full day of fun at the 2nd Annual Cabin Fever Festival! This exciting\, property-wide celebration brings together four wineries\, live entertainment\, incredible food & wine pairings\, and unforgettable experiences — all in one location.\n\nWhat to Expect:•  Four food & wine pairing stations•  Live music from 1:00 PM – 4:00 PM•  Warehouse clear-out wine sale•  Guided Cellar Tours (3 scheduled times)•  Wine Trivia Scavenger Hunt with prizes•  Prize giveaways on the quad\n Special Guest AppearanceThe adorable owls everyone loved last year are making their encore appearance at the 2026\nCabin Fever Festival!\n\n Featuring 4 Wineries• Augusta Winery• Balducci Vineyards• Montelle Winery• Host Winery: Mount Pleasant Estates\n\n Your Ticket Includes: Entry to the Cabin Fever Festival Four food & wine pairing stations Live music Access to the Winter Wine Sale Entry into all prize giveaways Cellar Tours & Wine Trivia Scavenger Hunt — included this year!\n\n Door Prizes Include:• A complimentary year-long Wine Club membership• A private wine tasting for up to 10 guests• Brunch tickets\, dinner for two\, and more!\n\n Ticket DealPurchase 2 or more tickets for just $15 each when bought by January 31st.\n\n Optional Add-On ExperiencesEnhance your day with:•  Mulled Wine Flights•  S’mores Kits\n A limited number of add-ons will be available on-site. Pre-purchase is highly recommended.\n\n\n Grab your friends\, bundle up\, and join us for a winter wine celebration you won’t want to miss! Click the link to get your tickets now! 
URL:https://augustawinery.com/event/cabin-fever-festival/
LOCATION:Mount Pleasant Estates
CATEGORIES:Live Music
ATTACH;FMTTYPE=image/png:https://augustawinery.com/wp-content/uploads/CFF-Flyer_2025-eventbrite-8.5-x-11-in-Facebook-Post-12.png
END:VEVENT
END:VCALENDAR