BEGIN:VCALENDAR
VERSION:2.0
PRODID:-//Augusta Winery - ECPv6.15.20//NONSGML v1.0//EN
CALSCALE:GREGORIAN
METHOD:PUBLISH
X-ORIGINAL-URL:https://augustawinery.com
X-WR-CALDESC:Events for Augusta Winery
REFRESH-INTERVAL;VALUE=DURATION:PT1H
X-Robots-Tag:noindex
X-PUBLISHED-TTL:PT1H
BEGIN:VTIMEZONE
TZID:America/Chicago
BEGIN:DAYLIGHT
TZOFFSETFROM:-0600
TZOFFSETTO:-0500
TZNAME:CDT
DTSTART:20250309T080000
END:DAYLIGHT
BEGIN:STANDARD
TZOFFSETFROM:-0500
TZOFFSETTO:-0600
TZNAME:CST
DTSTART:20251102T070000
END:STANDARD
BEGIN:DAYLIGHT
TZOFFSETFROM:-0600
TZOFFSETTO:-0500
TZNAME:CDT
DTSTART:20260308T080000
END:DAYLIGHT
BEGIN:STANDARD
TZOFFSETFROM:-0500
TZOFFSETTO:-0600
TZNAME:CST
DTSTART:20261101T070000
END:STANDARD
BEGIN:DAYLIGHT
TZOFFSETFROM:-0600
TZOFFSETTO:-0500
TZNAME:CDT
DTSTART:20270314T080000
END:DAYLIGHT
BEGIN:STANDARD
TZOFFSETFROM:-0500
TZOFFSETTO:-0600
TZNAME:CST
DTSTART:20271107T070000
END:STANDARD
END:VTIMEZONE
BEGIN:VEVENT
DTSTART;TZID=America/Chicago:20260411T130000
DTEND;TZID=America/Chicago:20260411T160000
DTSTAMP:20260424T204640
CREATED:20260331T152129Z
LAST-MODIFIED:20260331T152129Z
UID:1241-1775912400-1775923200@augustawinery.com
SUMMARY:Live Music by Terry Beck
DESCRIPTION:Spend your Saturday the Augusta way \n\nJoin us at Augusta Winery for an afternoon of live music with Terry Beck—bringing a laid-back mix of oldies\, classic hits\, and acoustic favorites. Known around the St. Louis area for his smooth vocals and easygoing\, feel-good vibe\, Terry creates the perfect soundtrack for a relaxing day at the winery.\nGrab a seat under the grapevine-covered arbor or hit the dance floor—either way\, it’s the perfect place to unwind. Picnic baskets are welcome\, so bring your favorites and make a day of it!\n\nPLUS – Browse the Augusta Winery Plant Sale! We’ll have gardening vendors around the Wine & Beer Garden! You can bring a plant\, swap one\, or purchase a new plant!
URL:https://augustawinery.com/event/live-music-by-terry-beck/
LOCATION:Augusta Winery\, 5601 High St\, Augusta\, MO\, 63332\, United States
CATEGORIES:Live Music
ATTACH;FMTTYPE=image/png:https://augustawinery.com/wp-content/uploads/Copy-of-Copy-of-FB-Event-Header-Augusta-Winery.png
END:VEVENT
END:VCALENDAR