BEGIN:VCALENDAR
VERSION:2.0
PRODID:-//Augusta Winery - ECPv6.15.20//NONSGML v1.0//EN
CALSCALE:GREGORIAN
METHOD:PUBLISH
X-ORIGINAL-URL:https://augustawinery.com
X-WR-CALDESC:Events for Augusta Winery
REFRESH-INTERVAL;VALUE=DURATION:PT1H
X-Robots-Tag:noindex
X-PUBLISHED-TTL:PT1H
BEGIN:VTIMEZONE
TZID:America/Chicago
BEGIN:DAYLIGHT
TZOFFSETFROM:-0600
TZOFFSETTO:-0500
TZNAME:CDT
DTSTART:20250309T080000
END:DAYLIGHT
BEGIN:STANDARD
TZOFFSETFROM:-0500
TZOFFSETTO:-0600
TZNAME:CST
DTSTART:20251102T070000
END:STANDARD
BEGIN:DAYLIGHT
TZOFFSETFROM:-0600
TZOFFSETTO:-0500
TZNAME:CDT
DTSTART:20260308T080000
END:DAYLIGHT
BEGIN:STANDARD
TZOFFSETFROM:-0500
TZOFFSETTO:-0600
TZNAME:CST
DTSTART:20261101T070000
END:STANDARD
BEGIN:DAYLIGHT
TZOFFSETFROM:-0600
TZOFFSETTO:-0500
TZNAME:CDT
DTSTART:20270314T080000
END:DAYLIGHT
BEGIN:STANDARD
TZOFFSETFROM:-0500
TZOFFSETTO:-0600
TZNAME:CST
DTSTART:20271107T070000
END:STANDARD
END:VTIMEZONE
BEGIN:VEVENT
DTSTART;TZID=America/Chicago:20260419T130000
DTEND;TZID=America/Chicago:20260419T150000
DTSTAMP:20260420T141056
CREATED:20260312T152422Z
LAST-MODIFIED:20260312T152422Z
UID:1230-1776603600-1776610800@augustawinery.com
SUMMARY:April Flowers & Happy Hours
DESCRIPTION:Spring is in the air\, and Sundays just got a little sweeter! Join us the last 3 Sundays in April from 1–3 PM for April Flowers & Happy Hours at Augusta Winery.\n\nEnjoy BOGO tastings and wine flights while relaxing in beautiful Missouri wine country. Grab a friend\, sip your favorite wines\, and soak up the springtime vibes!\n\nIt’s the perfect Sunday outing — great wine\, great views\, and even better company. \n\n Augusta WineryApril 12th\, 19th\, and 26th 1–3 PM
URL:https://augustawinery.com/event/april-flowers-happy-hours/
LOCATION:Augusta Winery\, 5601 High St\, Augusta\, MO\, 63332\, United States
ATTACH;FMTTYPE=image/png:https://augustawinery.com/wp-content/uploads/Augusta-Happy-Hour-3.png
END:VEVENT
BEGIN:VEVENT
DTSTART;TZID=America/Chicago:20260419T130000
DTEND;TZID=America/Chicago:20260419T160000
DTSTAMP:20260420T141056
CREATED:20260331T152555Z
LAST-MODIFIED:20260331T152555Z
UID:1250-1776603600-1776614400@augustawinery.com
SUMMARY:Live Music by Jason Garms
DESCRIPTION:Wrap up your weekend at Augusta Winery Join us Sunday for live music with Jason Garms\, bringing a smooth mix of acoustic favorites\, country\, and classic hits to the Wine & Beer Garden. His laid-back style and easy listening sound make for the perfect relaxing Sunday afternoon.\n\nGrab a seat under the grapevine-covered arbor\, sip your favorite wine\, and soak in the vineyard views. Picnic baskets are welcome—so come ready to unwind and stay awhile!\n\nPLUS – Join us as we feature a selection of craft brews for guests to taste and enjoy.\n…ANOTHER PLUS — from 1-3PM\, take advantage of our Happy Hours & April Flowers Special: BOGO Tastings & Flights!\n\n Sunday\, April 19th 1–4 PM
URL:https://augustawinery.com/event/live-music-by-jason-garms/
LOCATION:MO
CATEGORIES:Live Music
ATTACH;FMTTYPE=image/png:https://augustawinery.com/wp-content/uploads/Copy-of-Copy-of-FB-Event-Header-Augusta-Winery-3.png
END:VEVENT
BEGIN:VEVENT
DTSTART;TZID=America/Chicago:20260424T170000
DTEND;TZID=America/Chicago:20260424T190000
DTSTAMP:20260420T141056
CREATED:20260413T195817Z
LAST-MODIFIED:20260413T195817Z
UID:1258-1777050000-1777057200@augustawinery.com
SUMMARY:Plein Air Evening - Dinner Experience
DESCRIPTION:Explore Wineries – Watch Plein Air Artists being Augusta wine country to life throughout the day at one of four sister wineries in the area: Augusta Winery\, Mount Pleasant Estates\, Balducci Vineyards\, and Montelle Winery. \nWitness their creations from Noon to 4pm then stay for dinner as we transition into judging at 5pm with an art sale and dinner to follow at Mount Pleasant Estates. \nDinner Experience Includes: \n• Buffet-style pasta dinner (red & white sauces) \n• Fresh garden salad\, dinner rolls & dessert \n• One glass of wine or non-alcoholic beverage \n• Indoor & patio seating (weather permitting) \nDinner service begins at approximately 5:00 PM \nCome enjoy a unique evening of creativity\, community\, and great food at Mount Pleasant Estates! \nTickets must be purchased in advance – no day-of tickets available \nPlease note: This is a special event experience and discounts (including wine club and employee) are not available for this event. Artists use your discount code at checkout.
URL:https://augustawinery.com/event/plein-air-evening-dinner-experience/
LOCATION:Mount Pleasant Estates
ATTACH;FMTTYPE=image/png:https://augustawinery.com/wp-content/uploads/Plein-Air-Dinner-at-Mount-Pleasant-2026.png
END:VEVENT
BEGIN:VEVENT
DTSTART;TZID=America/Chicago:20260425T130000
DTEND;TZID=America/Chicago:20260425T160000
DTSTAMP:20260420T141056
CREATED:20260331T152717Z
LAST-MODIFIED:20260331T152717Z
UID:1251-1777122000-1777132800@augustawinery.com
SUMMARY:Live Music by Of Sea & Stone
DESCRIPTION:Join us at Augusta Winery for a beautiful day of wine\, views\, and live music \nEnjoy an afternoon with Of Sea and Stone\, bringing a soulful blend of indie\, folk\, and acoustic melodies to the Wine & Beer Garden. Their rich harmonies and relaxed\, atmospheric sound create the perfect vibe for a laid-back winery day.\n\nGrab a seat under the grapevine-covered arbor\, sip your favorite wine\, and take in the scenic views. Picnic baskets are welcome—so bring your favorites and stay awhile!
URL:https://augustawinery.com/event/live-music-by-of-sea-stone/
LOCATION:Augusta Winery\, 5601 High St\, Augusta\, MO\, 63332\, United States
CATEGORIES:Live Music
ATTACH;FMTTYPE=image/png:https://augustawinery.com/wp-content/uploads/Copy-of-Copy-of-FB-Event-Header-Augusta-Winery-4.png
END:VEVENT
BEGIN:VEVENT
DTSTART;TZID=America/Chicago:20260426T130000
DTEND;TZID=America/Chicago:20260426T150000
DTSTAMP:20260420T141056
CREATED:20260312T152507Z
LAST-MODIFIED:20260312T152507Z
UID:1231-1777208400-1777215600@augustawinery.com
SUMMARY:April Flowers & Happy Hours
DESCRIPTION:Spring is in the air\, and Sundays just got a little sweeter! Join us the last 3 Sundays in April from 1–3 PM for April Flowers & Happy Hours at Augusta Winery.\n\nEnjoy BOGO tastings and wine flights while relaxing in beautiful Missouri wine country. Grab a friend\, sip your favorite wines\, and soak up the springtime vibes!\n\nIt’s the perfect Sunday outing — great wine\, great views\, and even better company. \n\n Augusta WineryApril 12th\, 19th\, and 26th 1–3 PM
URL:https://augustawinery.com/event/april-flowers-happy-hours-2/
LOCATION:Augusta Winery\, 5601 High St\, Augusta\, MO\, 63332\, United States
ATTACH;FMTTYPE=image/png:https://augustawinery.com/wp-content/uploads/Augusta-Happy-Hour-3.png
END:VEVENT
BEGIN:VEVENT
DTSTART;TZID=America/Chicago:20260426T130000
DTEND;TZID=America/Chicago:20260426T160000
DTSTAMP:20260420T141056
CREATED:20260331T152845Z
LAST-MODIFIED:20260331T152845Z
UID:1252-1777208400-1777219200@augustawinery.com
SUMMARY:Live Music by Dave Bennett
DESCRIPTION:Spend your Sunday at Augusta Winery \nJoin us for live music with Dave Bennett\, bringing an upbeat mix of classic rock\, blues\, and crowd favorites to the Wine & Beer Garden. His energetic\, feel-good performance is the perfect way to relax and wrap up your weekend.\n\nGrab a seat under the grapevine-covered arbor\, sip your favorite wine\, and enjoy the vineyard views—or get up and dance a little! Picnic baskets are welcome\, so come ready to stay awhile.\n\nPLUS — from 1-3PM\, take advantage of our Happy Hours & April Flowers Special: BOGO Tastings & Flights!\n\n Sunday\, April 26th 1–4 PM
URL:https://augustawinery.com/event/live-music-by-dave-bennett-2/
LOCATION:Augusta Winery\, 5601 High St\, Augusta\, MO\, 63332\, United States
CATEGORIES:Live Music
ATTACH;FMTTYPE=image/png:https://augustawinery.com/wp-content/uploads/Copy-of-Copy-of-FB-Event-Header-Augusta-Winery-5.png
END:VEVENT
BEGIN:VEVENT
DTSTART;VALUE=DATE:20260606
DTEND;VALUE=DATE:20260608
DTSTAMP:20260420T141056
CREATED:20260113T212411Z
LAST-MODIFIED:20260420T165328Z
UID:1150-1780704000-1780876799@augustawinery.com
SUMMARY:Augusta Wine & Jazz Festival 2026
DESCRIPTION:The Soul of the Vines returns to Missouri Wine Country as the Augusta Wine & Jazz Festival fills historic Augusta with live music\, local wine\, and unforgettable charm June 5–7. This one-of-a-kind festival blends the sophistication of jazz with the beauty and tradition of America’s first wine region\, creating a weekend full of rhythm\, flavor\, and scenic vineyard views. \nThe weekend begins Friday evening and continues all day Saturday\, starting in Town Square with Mimosas and Bloody Marys before music carries throughout Augusta at venues across town. Guests can stroll between tasting rooms\, historic streets\, and vineyard patios while enjoying performances\, local wine\, and the welcoming spirit that makes Augusta so special. Saturday night concludes with the grand finale at the historic Harmonie Verein\, where the sounds of jazz fill one of Augusta’s most iconic venues. \nSunday offers a memorable close to the weekend with a Jazz Brunch aboard the Miss Augusta\, pairing brunch favorites\, mimosas\, and live music on the water. \nBe sure to stop by all four Augusta area wineries throughout the festival & listen to amazing jazz artists! \nWant the ultimate festival experience? Upgrade with a VIP Pass\, which includes a guided VIP path to the hottest shows\, Friday night VIP Blind Wine Tasting\, headliner tickets at the Harmonie Verein\, dinner during the headliner show\, and Sunday Jazz Brunch with mimosas. \nCome sip\, stroll\, and celebrate the soul of Augusta all weekend long. \nFor more information and VIP Pass tickets\, please visit theharmonie.org/jazzfest
URL:https://augustawinery.com/event/jazz-fest-town-of-augusta-event/
LOCATION:MO
END:VEVENT
BEGIN:VEVENT
DTSTART;VALUE=DATE:20260815
DTEND;VALUE=DATE:20260816
DTSTAMP:20260420T141056
CREATED:20260113T212312Z
LAST-MODIFIED:20260113T212312Z
UID:1149-1786752000-1786838399@augustawinery.com
SUMMARY:Summer's Last Blast Block Party: 4-Winery Event
DESCRIPTION:End summer break the right way — Summer’s Last Blast on August 15! 🌞 Live music at every location\, drink specials at all four wineries. Mark your calendars!
URL:https://augustawinery.com/event/summers-last-blast-block-party-4-winery-event/
LOCATION:MO
END:VEVENT
BEGIN:VEVENT
DTSTART;TZID=America/Chicago:20261024T110000
DTEND;TZID=America/Chicago:20261024T170000
DTSTAMP:20260420T141056
CREATED:20260113T212213Z
LAST-MODIFIED:20260113T212213Z
UID:1148-1792839600-1792861200@augustawinery.com
SUMMARY:Wicked Wine Hop: 4-Winery Event
DESCRIPTION:Something spooky is brewing… 👻🍷 Join us for the Wicked Wine Hop to kick off Halloween with costume contests\, eerie extras\, and more at every location. Save the date — more info soon!
URL:https://augustawinery.com/event/wicked-wine-hop-4-winery-event/
LOCATION:MO
END:VEVENT
BEGIN:VEVENT
DTSTART;TZID=America/Chicago:20261128T110000
DTEND;TZID=America/Chicago:20261128T170000
DTSTAMP:20260420T141056
CREATED:20260113T212119Z
LAST-MODIFIED:20260113T212119Z
UID:1147-1795863600-1795885200@augustawinery.com
SUMMARY:Christmas Market: 4-Winery Event
DESCRIPTION:Save the date — November 28! 🎄 Get your Christmas shopping done early at our Christmas Market\, with wonderful vendors set up at each winery location.
URL:https://augustawinery.com/event/christmas-market-4-winery-event/
LOCATION:MO
END:VEVENT
END:VCALENDAR