BEGIN:VCALENDAR
VERSION:2.0
PRODID:-//Augusta Winery - ECPv6.15.20//NONSGML v1.0//EN
CALSCALE:GREGORIAN
METHOD:PUBLISH
X-WR-CALNAME:Augusta Winery
X-ORIGINAL-URL:https://augustawinery.com
X-WR-CALDESC:Events for Augusta Winery
REFRESH-INTERVAL;VALUE=DURATION:PT1H
X-Robots-Tag:noindex
X-PUBLISHED-TTL:PT1H
BEGIN:VTIMEZONE
TZID:America/Chicago
BEGIN:DAYLIGHT
TZOFFSETFROM:-0600
TZOFFSETTO:-0500
TZNAME:CDT
DTSTART:20240310T080000
END:DAYLIGHT
BEGIN:STANDARD
TZOFFSETFROM:-0500
TZOFFSETTO:-0600
TZNAME:CST
DTSTART:20241103T070000
END:STANDARD
BEGIN:DAYLIGHT
TZOFFSETFROM:-0600
TZOFFSETTO:-0500
TZNAME:CDT
DTSTART:20250309T080000
END:DAYLIGHT
BEGIN:STANDARD
TZOFFSETFROM:-0500
TZOFFSETTO:-0600
TZNAME:CST
DTSTART:20251102T070000
END:STANDARD
BEGIN:DAYLIGHT
TZOFFSETFROM:-0600
TZOFFSETTO:-0500
TZNAME:CDT
DTSTART:20260308T080000
END:DAYLIGHT
BEGIN:STANDARD
TZOFFSETFROM:-0500
TZOFFSETTO:-0600
TZNAME:CST
DTSTART:20261101T070000
END:STANDARD
END:VTIMEZONE
BEGIN:VEVENT
DTSTART;TZID=America/Chicago:20251011T130000
DTEND;TZID=America/Chicago:20251011T160000
DTSTAMP:20260419T130416
CREATED:20250820T154648Z
LAST-MODIFIED:20251002T202831Z
UID:981-1760187600-1760198400@augustawinery.com
SUMMARY:Live Music - The Woo Daddies
DESCRIPTION:The Woo Daddies are a dynamic trio based in St. Louis\, Missouri\, known for their eclectic blend of musical genres. Their repertoire includes Rockabilly\, Swing\, Jazz\, Blues\, Surf\, Outlaw Country\, and Pop\, all infused with a distinctive New Orleans flair. This fusion creates an energetic and engaging atmosphere\, making them a favorite choice for a variety of events. Join us at the Wine & Beer Garden for a chance to listen to their amazing tunes!
URL:https://augustawinery.com/event/live-music-issac-kenneth/
LOCATION:Augusta Winery\, 5601 High St\, Augusta\, MO\, 63332\, United States
ATTACH;FMTTYPE=image/heic:https://augustawinery.com/wp-content/uploads/IMG_8111.heic
END:VEVENT
END:VCALENDAR