BEGIN:VCALENDAR
VERSION:2.0
PRODID:-//Augusta Winery - ECPv6.15.20//NONSGML v1.0//EN
CALSCALE:GREGORIAN
METHOD:PUBLISH
X-ORIGINAL-URL:https://augustawinery.com
X-WR-CALDESC:Events for Augusta Winery
REFRESH-INTERVAL;VALUE=DURATION:PT1H
X-Robots-Tag:noindex
X-PUBLISHED-TTL:PT1H
BEGIN:VTIMEZONE
TZID:America/Chicago
BEGIN:DAYLIGHT
TZOFFSETFROM:-0600
TZOFFSETTO:-0500
TZNAME:CDT
DTSTART:20240310T080000
END:DAYLIGHT
BEGIN:STANDARD
TZOFFSETFROM:-0500
TZOFFSETTO:-0600
TZNAME:CST
DTSTART:20241103T070000
END:STANDARD
BEGIN:DAYLIGHT
TZOFFSETFROM:-0600
TZOFFSETTO:-0500
TZNAME:CDT
DTSTART:20250309T080000
END:DAYLIGHT
BEGIN:STANDARD
TZOFFSETFROM:-0500
TZOFFSETTO:-0600
TZNAME:CST
DTSTART:20251102T070000
END:STANDARD
BEGIN:DAYLIGHT
TZOFFSETFROM:-0600
TZOFFSETTO:-0500
TZNAME:CDT
DTSTART:20260308T080000
END:DAYLIGHT
BEGIN:STANDARD
TZOFFSETFROM:-0500
TZOFFSETTO:-0600
TZNAME:CST
DTSTART:20261101T070000
END:STANDARD
END:VTIMEZONE
BEGIN:VEVENT
DTSTART;TZID=America/Chicago:20251025T130000
DTEND;TZID=America/Chicago:20251025T170000
DTSTAMP:20260422T094927
CREATED:20250820T162713Z
LAST-MODIFIED:20251004T212141Z
UID:1004-1761397200-1761411600@augustawinery.com
SUMMARY:Wicked Wine Hop
DESCRIPTION:Wicked Wine Hop is back in Augusta on Saturday\, October 25\, 2025!\nGrab your friends and family for a day of wine\, music\, costumes\, and spooky fun across all four Augusta wineries. \n\n What’s included with your $15 ticket :\nCostume contests at every winery! You CAN enter more than one!Stay tuned for the theme and time of each contest!\nLive music at all four locations!\nVendors at every location & Cellar Tours at Mount Pleasant.Vendor Lineup TBD\nTasting voucher + Pumpkin Passport (collect pieces from each winery to build your jack-o’-lantern ) Winner gets a prize!\nWinery swag + goodies in your check-in bag\n\nCheck-in starts at 11AM at Augusta Winery\, where you’ll pick up your swag bag filled with everything you need for the hop!\nCostumes encouraged but not required—come spooky\, silly\, or simply as you are! \n\n From solo spooks to ghoul squads\, there’s a contest for everyone! Contest Themes TBD!  Bring your boo crew for a day full of boos & booze.\n Tickets just $15 now\, $20 at the door. Don’t miss this wickedly fun Halloween wine hop!\n\nGet Tickets Here!
URL:https://augustawinery.com/event/wicked-wine-hop/
LOCATION:Augusta Winery\, 5601 High St\, Augusta\, MO\, 63332\, United States
ATTACH;FMTTYPE=image/png:https://augustawinery.com/wp-content/uploads/Copy-of-wicked-wine-hop-eventbrite-graphic.png
END:VEVENT
END:VCALENDAR